BEGIN:VCALENDAR
VERSION:2.0
PRODID:-//Site du Cyclo Club Pibracais FSGT31 - La passion du vélo - ECPv6.15.16//NONSGML v1.0//EN
CALSCALE:GREGORIAN
METHOD:PUBLISH
X-ORIGINAL-URL:https://www.cyclopibracais31.fr
X-WR-CALDESC:Évènements pour Site du Cyclo Club Pibracais FSGT31 - La passion du vélo
REFRESH-INTERVAL;VALUE=DURATION:PT1H
X-Robots-Tag:noindex
X-PUBLISHED-TTL:PT1H
BEGIN:VTIMEZONE
TZID:UTC
BEGIN:STANDARD
TZOFFSETFROM:+0000
TZOFFSETTO:+0000
TZNAME:UTC
DTSTART:20250101T000000
END:STANDARD
END:VTIMEZONE
BEGIN:VEVENT
DTSTART;VALUE=DATE:20260518
DTEND;VALUE=DATE:20260523
DTSTAMP:20260421T155726
CREATED:20260216T125208Z
LAST-MODIFIED:20260216T125208Z
UID:1313-1779062400-1779494399@www.cyclopibracais31.fr
SUMMARY:Séjour ANDUZE 18 au 22 Mai au camping ” Castel Rose ”
DESCRIPTION:ESSAI : faites vous connaitre pour participation
URL:https://www.cyclopibracais31.fr/agenda/sejour-anduze-18-au-22-mai-au-camping-castel-rose/
CATEGORIES:Séjour
END:VEVENT
END:VCALENDAR