BEGIN:VCALENDAR
VERSION:2.0
PRODID:-//Site du Cyclo Club Pibracais FSGT31 - La passion du vélo - ECPv6.15.16//NONSGML v1.0//EN
CALSCALE:GREGORIAN
METHOD:PUBLISH
X-WR-CALNAME:Site du Cyclo Club Pibracais FSGT31 - La passion du vélo
X-ORIGINAL-URL:https://www.cyclopibracais31.fr
X-WR-CALDESC:Évènements pour Site du Cyclo Club Pibracais FSGT31 - La passion du vélo
REFRESH-INTERVAL;VALUE=DURATION:PT1H
X-Robots-Tag:noindex
X-PUBLISHED-TTL:PT1H
BEGIN:VTIMEZONE
TZID:UTC
BEGIN:STANDARD
TZOFFSETFROM:+0000
TZOFFSETTO:+0000
TZNAME:UTC
DTSTART:20250101T000000
END:STANDARD
END:VTIMEZONE
BEGIN:VEVENT
DTSTART;TZID=UTC:20260215T073000
DTEND;TZID=UTC:20260215T120000
DTSTAMP:20260421T141550
CREATED:20260213T110643Z
LAST-MODIFIED:20260213T111149Z
UID:1254-1771140600-1771156800@www.cyclopibracais31.fr
SUMMARY:Début des randonnées 2026 FSGT31 du dimanche
DESCRIPTION:Le 15 Février première randonnée FSGT31 de l’année 2026 organisée par le club de Blagnac.
URL:https://www.cyclopibracais31.fr/agenda/debut-des-randonnees-2026-fsgt31-du-dimanche/
CATEGORIES:Randonnée FSGT31
ATTACH;FMTTYPE=image/jpeg:https://www.cyclopibracais31.fr/wp-content/uploads/2025/08/black-and-white-bicycle-recreation-vehicle-usa-monochrome-285863-pxhere.com_-scaled.jpg
END:VEVENT
END:VCALENDAR